Workbook

Sheet Example - cookies
A1: Recipe costing template
A2: Fill in the orange cells. Line costs, cost per portion and the suggested price work themselves out. Weight converts to weight and volume to volume — not weight to volume. Free from costmydish.com
A4: Recipe name | B4: Chocolate chip cookies | E4: Total batch cost | H4: =SUM(H11:H40)
A5: Batch makes (portions) | B5: 24 | E5: Cost per portion | H5: =IFERROR(SUM(H11:H40)/$B$5,"")
A6: Portion word | B6: cookie | E6: Suggested price per portion | H6: =IFERROR(ROUNDUP((SUM(H11:H40)/$B$5)/$B$7,2),"")
A7: Target food cost % | B7: 0.3 | E7: Food cost % at your price | H7: =IF(N($B$8)>0,IFERROR((SUM(H11:H40)/$B$5)/$B$8,""),"")
A8: Your selling price per portion | B8: 1 | E8: Profit per portion | H8: =IF(N($B$8)>0,IFERROR($B$8-SUM(H11:H40)/$B$5,""),"")
A10: Ingredient | B10: Price paid | C10: Pack size | D10: Pack unit | E10: Amount used | F10: Used unit | G10: Waste % | H10: Line cost | I10: Notes
A11: All-purpose flour | B11: 2.5 | C11: 1 | D11: kg | E11: 250 | F11: g | H11: =IF(OR(A11="",B11="",C11="",E11=""),"",IFERROR(IF(VLOOKUP(D11,Units!$A:$C,2,FALSE)<>VLOOKUP(F11,Units!$A:$C,2,FALSE),"Unit mismatch",B11/(C11*VLOOKUP(D11,Units!$A:$C,3,FALSE))*E11*VLOOKUP(F11,Units!$A:$C,3,FALSE)/(1-N(G11))),"Check units"))
A12: Butter | B12: 8 | C12: 1 | D12: kg | E12: 150 | F12: g | H12: =IF(OR(A12="",B12="",C12="",E12=""),"",IFERROR(IF(VLOOKUP(D12,Units!$A:$C,2,FALSE)<>VLOOKUP(F12,Units!$A:$C,2,FALSE),"Unit mismatch",B12/(C12*VLOOKUP(D12,Units!$A:$C,3,FALSE))*E12*VLOOKUP(F12,Units!$A:$C,3,FALSE)/(1-N(G12))),"Check units"))
A13: Eggs | B13: 0.3 | C13: 1 | D13: each | E13: 2 | F13: each | H13: =IF(OR(A13="",B13="",C13="",E13=""),"",IFERROR(IF(VLOOKUP(D13,Units!$A:$C,2,FALSE)<>VLOOKUP(F13,Units!$A:$C,2,FALSE),"Unit mismatch",B13/(C13*VLOOKUP(D13,Units!$A:$C,3,FALSE))*E13*VLOOKUP(F13,Units!$A:$C,3,FALSE)/(1-N(G13))),"Check units"))
A14: Sugar | B14: 1.8 | C14: 1 | D14: kg | E14: 100 | F14: g | H14: =IF(OR(A14="",B14="",C14="",E14=""),"",IFERROR(IF(VLOOKUP(D14,Units!$A:$C,2,FALSE)<>VLOOKUP(F14,Units!$A:$C,2,FALSE),"Unit mismatch",B14/(C14*VLOOKUP(D14,Units!$A:$C,3,FALSE))*E14*VLOOKUP(F14,Units!$A:$C,3,FALSE)/(1-N(G14))),"Check units"))
A15: Chocolate chips | B15: 12 | C15: 1 | D15: kg | E15: 150 | F15: g | H15: =IF(OR(A15="",B15="",C15="",E15=""),"",IFERROR(IF(VLOOKUP(D15,Units!$A:$C,2,FALSE)<>VLOOKUP(F15,Units!$A:$C,2,FALSE),"Unit mismatch",B15/(C15*VLOOKUP(D15,Units!$A:$C,3,FALSE))*E15*VLOOKUP(F15,Units!$A:$C,3,FALSE)/(1-N(G15))),"Check units"))
A16: Vanilla extract | B16: 15 | C16: 1 | D16: l | E16: 5 | F16: ml | H16: =IF(OR(A16="",B16="",C16="",E16=""),"",IFERROR(IF(VLOOKUP(D16,Units!$A:$C,2,FALSE)<>VLOOKUP(F16,Units!$A:$C,2,FALSE),"Unit mismatch",B16/(C16*VLOOKUP(D16,Units!$A:$C,3,FALSE))*E16*VLOOKUP(F16,Units!$A:$C,3,FALSE)/(1-N(G16))),"Check units"))
A17: Baking powder | B17: 5 | C17: 1 | D17: kg | E17: 5 | F17: g | H17: =IF(OR(A17="",B17="",C17="",E17=""),"",IFERROR(IF(VLOOKUP(D17,Units!$A:$C,2,FALSE)<>VLOOKUP(F17,Units!$A:$C,2,FALSE),"Unit mismatch",B17/(C17*VLOOKUP(D17,Units!$A:$C,3,FALSE))*E17*VLOOKUP(F17,Units!$A:$C,3,FALSE)/(1-N(G17))),"Check units"))
A18: Salt | B18: 1 | C18: 1 | D18: kg | E18: 3 | F18: g | H18: =IF(OR(A18="",B18="",C18="",E18=""),"",IFERROR(IF(VLOOKUP(D18,Units!$A:$C,2,FALSE)<>VLOOKUP(F18,Units!$A:$C,2,FALSE),"Unit mismatch",B18/(C18*VLOOKUP(D18,Units!$A:$C,3,FALSE))*E18*VLOOKUP(F18,Units!$A:$C,3,FALSE)/(1-N(G18))),"Check units"))
H19: =IF(OR(A19="",B19="",C19="",E19=""),"",IFERROR(IF(VLOOKUP(D19,Units!$A:$C,2,FALSE)<>VLOOKUP(F19,Units!$A:$C,2,FALSE),"Unit mismatch",B19/(C19*VLOOKUP(D19,Units!$A:$C,3,FALSE))*E19*VLOOKUP(F19,Units!$A:$C,3,FALSE)/(1-N(G19))),"Check units"))
H20: =IF(OR(A20="",B20="",C20="",E20=""),"",IFERROR(IF(VLOOKUP(D20,Units!$A:$C,2,FALSE)<>VLOOKUP(F20,Units!$A:$C,2,FALSE),"Unit mismatch",B20/(C20*VLOOKUP(D20,Units!$A:$C,3,FALSE))*E20*VLOOKUP(F20,Units!$A:$C,3,FALSE)/(1-N(G20))),"Check units"))
H21: =IF(OR(A21="",B21="",C21="",E21=""),"",IFERROR(IF(VLOOKUP(D21,Units!$A:$C,2,FALSE)<>VLOOKUP(F21,Units!$A:$C,2,FALSE),"Unit mismatch",B21/(C21*VLOOKUP(D21,Units!$A:$C,3,FALSE))*E21*VLOOKUP(F21,Units!$A:$C,3,FALSE)/(1-N(G21))),"Check units"))
H22: =IF(OR(A22="",B22="",C22="",E22=""),"",IFERROR(IF(VLOOKUP(D22,Units!$A:$C,2,FALSE)<>VLOOKUP(F22,Units!$A:$C,2,FALSE),"Unit mismatch",B22/(C22*VLOOKUP(D22,Units!$A:$C,3,FALSE))*E22*VLOOKUP(F22,Units!$A:$C,3,FALSE)/(1-N(G22))),"Check units"))
H23: =IF(OR(A23="",B23="",C23="",E23=""),"",IFERROR(IF(VLOOKUP(D23,Units!$A:$C,2,FALSE)<>VLOOKUP(F23,Units!$A:$C,2,FALSE),"Unit mismatch",B23/(C23*VLOOKUP(D23,Units!$A:$C,3,FALSE))*E23*VLOOKUP(F23,Units!$A:$C,3,FALSE)/(1-N(G23))),"Check units"))
H24: =IF(OR(A24="",B24="",C24="",E24=""),"",IFERROR(IF(VLOOKUP(D24,Units!$A:$C,2,FALSE)<>VLOOKUP(F24,Units!$A:$C,2,FALSE),"Unit mismatch",B24/(C24*VLOOKUP(D24,Units!$A:$C,3,FALSE))*E24*VLOOKUP(F24,Units!$A:$C,3,FALSE)/(1-N(G24))),"Check units"))
H25: =IF(OR(A25="",B25="",C25="",E25=""),"",IFERROR(IF(VLOOKUP(D25,Units!$A:$C,2,FALSE)<>VLOOKUP(F25,Units!$A:$C,2,FALSE),"Unit mismatch",B25/(C25*VLOOKUP(D25,Units!$A:$C,3,FALSE))*E25*VLOOKUP(F25,Units!$A:$C,3,FALSE)/(1-N(G25))),"Check units"))
H26: =IF(OR(A26="",B26="",C26="",E26=""),"",IFERROR(IF(VLOOKUP(D26,Units!$A:$C,2,FALSE)<>VLOOKUP(F26,Units!$A:$C,2,FALSE),"Unit mismatch",B26/(C26*VLOOKUP(D26,Units!$A:$C,3,FALSE))*E26*VLOOKUP(F26,Units!$A:$C,3,FALSE)/(1-N(G26))),"Check units"))
H27: =IF(OR(A27="",B27="",C27="",E27=""),"",IFERROR(IF(VLOOKUP(D27,Units!$A:$C,2,FALSE)<>VLOOKUP(F27,Units!$A:$C,2,FALSE),"Unit mismatch",B27/(C27*VLOOKUP(D27,Units!$A:$C,3,FALSE))*E27*VLOOKUP(F27,Units!$A:$C,3,FALSE)/(1-N(G27))),"Check units"))
H28: =IF(OR(A28="",B28="",C28="",E28=""),"",IFERROR(IF(VLOOKUP(D28,Units!$A:$C,2,FALSE)<>VLOOKUP(F28,Units!$A:$C,2,FALSE),"Unit mismatch",B28/(C28*VLOOKUP(D28,Units!$A:$C,3,FALSE))*E28*VLOOKUP(F28,Units!$A:$C,3,FALSE)/(1-N(G28))),"Check units"))
H29: =IF(OR(A29="",B29="",C29="",E29=""),"",IFERROR(IF(VLOOKUP(D29,Units!$A:$C,2,FALSE)<>VLOOKUP(F29,Units!$A:$C,2,FALSE),"Unit mismatch",B29/(C29*VLOOKUP(D29,Units!$A:$C,3,FALSE))*E29*VLOOKUP(F29,Units!$A:$C,3,FALSE)/(1-N(G29))),"Check units"))
H30: =IF(OR(A30="",B30="",C30="",E30=""),"",IFERROR(IF(VLOOKUP(D30,Units!$A:$C,2,FALSE)<>VLOOKUP(F30,Units!$A:$C,2,FALSE),"Unit mismatch",B30/(C30*VLOOKUP(D30,Units!$A:$C,3,FALSE))*E30*VLOOKUP(F30,Units!$A:$C,3,FALSE)/(1-N(G30))),"Check units"))
... H40: =IF(OR(A40="",B40="",C40="",E40=""),"",IFERROR(IF(VLOOKUP(D40,Units!$A:$C,2,FALSE)<>VLOOKUP(F40,Units!$A:$C,2,FALSE),"Unit mismatch",B40/(C40*VLOOKUP(D40,Units!$A:$C,3,FALSE))*E40*VLOOKUP(F40,Units!$A:$C,3,FALSE)/(1-N(G40))),"Check units"))

Sheet Your recipe
A1: Recipe costing template
A2: Fill in the orange cells. Line costs, cost per portion and the suggested price work themselves out. Weight converts to weight and volume to volume — not weight to volume. Free from costmydish.com
A4: Recipe name | E4: Total batch cost | H4: =SUM(H11:H40)
A5: Batch makes (portions) | E5: Cost per portion | H5: =IFERROR(SUM(H11:H40)/$B$5,"")
A6: Portion word | E6: Suggested price per portion | H6: =IFERROR(ROUNDUP((SUM(H11:H40)/$B$5)/$B$7,2),"")
A7: Target food cost % | B7: 0.3 | E7: Food cost % at your price | H7: =IF(N($B$8)>0,IFERROR((SUM(H11:H40)/$B$5)/$B$8,""),"")
A8: Your selling price per portion | E8: Profit per portion | H8: =IF(N($B$8)>0,IFERROR($B$8-SUM(H11:H40)/$B$5,""),"")
A10: Ingredient | B10: Price paid | C10: Pack size | D10: Pack unit | E10: Amount used | F10: Used unit | G10: Waste % | H10: Line cost | I10: Notes
H11: =IF(OR(A11="",B11="",C11="",E11=""),"",IFERROR(IF(VLOOKUP(D11,Units!$A:$C,2,FALSE)<>VLOOKUP(F11,Units!$A:$C,2,FALSE),"Unit mismatch",B11/(C11*VLOOKUP(D11,Units!$A:$C,3,FALSE))*E11*VLOOKUP(F11,Units!$A:$C,3,FALSE)/(1-N(G11))),"Check units"))
H12: =IF(OR(A12="",B12="",C12="",E12=""),"",IFERROR(IF(VLOOKUP(D12,Units!$A:$C,2,FALSE)<>VLOOKUP(F12,Units!$A:$C,2,FALSE),"Unit mismatch",B12/(C12*VLOOKUP(D12,Units!$A:$C,3,FALSE))*E12*VLOOKUP(F12,Units!$A:$C,3,FALSE)/(1-N(G12))),"Check units"))
H13: =IF(OR(A13="",B13="",C13="",E13=""),"",IFERROR(IF(VLOOKUP(D13,Units!$A:$C,2,FALSE)<>VLOOKUP(F13,Units!$A:$C,2,FALSE),"Unit mismatch",B13/(C13*VLOOKUP(D13,Units!$A:$C,3,FALSE))*E13*VLOOKUP(F13,Units!$A:$C,3,FALSE)/(1-N(G13))),"Check units"))
H14: =IF(OR(A14="",B14="",C14="",E14=""),"",IFERROR(IF(VLOOKUP(D14,Units!$A:$C,2,FALSE)<>VLOOKUP(F14,Units!$A:$C,2,FALSE),"Unit mismatch",B14/(C14*VLOOKUP(D14,Units!$A:$C,3,FALSE))*E14*VLOOKUP(F14,Units!$A:$C,3,FALSE)/(1-N(G14))),"Check units"))
H15: =IF(OR(A15="",B15="",C15="",E15=""),"",IFERROR(IF(VLOOKUP(D15,Units!$A:$C,2,FALSE)<>VLOOKUP(F15,Units!$A:$C,2,FALSE),"Unit mismatch",B15/(C15*VLOOKUP(D15,Units!$A:$C,3,FALSE))*E15*VLOOKUP(F15,Units!$A:$C,3,FALSE)/(1-N(G15))),"Check units"))
H16: =IF(OR(A16="",B16="",C16="",E16=""),"",IFERROR(IF(VLOOKUP(D16,Units!$A:$C,2,FALSE)<>VLOOKUP(F16,Units!$A:$C,2,FALSE),"Unit mismatch",B16/(C16*VLOOKUP(D16,Units!$A:$C,3,FALSE))*E16*VLOOKUP(F16,Units!$A:$C,3,FALSE)/(1-N(G16))),"Check units"))
H17: =IF(OR(A17="",B17="",C17="",E17=""),"",IFERROR(IF(VLOOKUP(D17,Units!$A:$C,2,FALSE)<>VLOOKUP(F17,Units!$A:$C,2,FALSE),"Unit mismatch",B17/(C17*VLOOKUP(D17,Units!$A:$C,3,FALSE))*E17*VLOOKUP(F17,Units!$A:$C,3,FALSE)/(1-N(G17))),"Check units"))
H18: =IF(OR(A18="",B18="",C18="",E18=""),"",IFERROR(IF(VLOOKUP(D18,Units!$A:$C,2,FALSE)<>VLOOKUP(F18,Units!$A:$C,2,FALSE),"Unit mismatch",B18/(C18*VLOOKUP(D18,Units!$A:$C,3,FALSE))*E18*VLOOKUP(F18,Units!$A:$C,3,FALSE)/(1-N(G18))),"Check units"))
H19: =IF(OR(A19="",B19="",C19="",E19=""),"",IFERROR(IF(VLOOKUP(D19,Units!$A:$C,2,FALSE)<>VLOOKUP(F19,Units!$A:$C,2,FALSE),"Unit mismatch",B19/(C19*VLOOKUP(D19,Units!$A:$C,3,FALSE))*E19*VLOOKUP(F19,Units!$A:$C,3,FALSE)/(1-N(G19))),"Check units"))
H20: =IF(OR(A20="",B20="",C20="",E20=""),"",IFERROR(IF(VLOOKUP(D20,Units!$A:$C,2,FALSE)<>VLOOKUP(F20,Units!$A:$C,2,FALSE),"Unit mismatch",B20/(C20*VLOOKUP(D20,Units!$A:$C,3,FALSE))*E20*VLOOKUP(F20,Units!$A:$C,3,FALSE)/(1-N(G20))),"Check units"))
H21: =IF(OR(A21="",B21="",C21="",E21=""),"",IFERROR(IF(VLOOKUP(D21,Units!$A:$C,2,FALSE)<>VLOOKUP(F21,Units!$A:$C,2,FALSE),"Unit mismatch",B21/(C21*VLOOKUP(D21,Units!$A:$C,3,FALSE))*E21*VLOOKUP(F21,Units!$A:$C,3,FALSE)/(1-N(G21))),"Check units"))
H22: =IF(OR(A22="",B22="",C22="",E22=""),"",IFERROR(IF(VLOOKUP(D22,Units!$A:$C,2,FALSE)<>VLOOKUP(F22,Units!$A:$C,2,FALSE),"Unit mismatch",B22/(C22*VLOOKUP(D22,Units!$A:$C,3,FALSE))*E22*VLOOKUP(F22,Units!$A:$C,3,FALSE)/(1-N(G22))),"Check units"))
... H40: =IF(OR(A40="",B40="",C40="",E40=""),"",IFERROR(IF(VLOOKUP(D40,Units!$A:$C,2,FALSE)<>VLOOKUP(F40,Units!$A:$C,2,FALSE),"Unit mismatch",B40/(C40*VLOOKUP(D40,Units!$A:$C,3,FALSE))*E40*VLOOKUP(F40,Units!$A:$C,3,FALSE)/(1-N(G40))),"Check units"))

Sheet Units
A1: Unit | B1: Family | C1: In base unit (g, ml or each)
A2: g | B2: weight | C2: 1
A3: kg | B3: weight | C3: 1000
A4: oz | B4: weight | C4: 28.3495
A5: lb | B5: weight | C5: 453.592
A6: ml | B6: volume | C6: 1
A7: l | B7: volume | C7: 1000
A8: tsp | B8: volume | C8: 4.92892
A9: tbsp | B9: volume | C9: 14.7868
A10: cup | B10: volume | C10: 240
A11: fl_oz | B11: volume | C11: 29.5735
A12: pint | B12: volume | C12: 473.176
A13: quart | B13: volume | C13: 946.353
... A17: dozen | B17: count | C17: 12
